BEGIN:VCALENDAR
VERSION:2.0
PRODID:-//Town of Holton - ECPv5.16.4//NONSGML v1.0//EN
CALSCALE:GREGORIAN
METHOD:PUBLISH
X-WR-CALNAME:Town of Holton
X-ORIGINAL-URL:https://townofholton.wi.gov
X-WR-CALDESC:Events for Town of Holton
REFRESH-INTERVAL;VALUE=DURATION:PT1H
X-Robots-Tag:noindex
X-PUBLISHED-TTL:PT1H
BEGIN:VTIMEZONE
TZID:America/Chicago
BEGIN:DAYLIGHT
TZOFFSETFROM:-0600
TZOFFSETTO:-0500
TZNAME:CDT
DTSTART:20240310T080000
END:DAYLIGHT
BEGIN:STANDARD
TZOFFSETFROM:-0500
TZOFFSETTO:-0600
TZNAME:CST
DTSTART:20241103T070000
END:STANDARD
END:VTIMEZONE
BEGIN:VEVENT
DTSTART;TZID=America/Chicago:20240425T160000
DTEND;TZID=America/Chicago:20240425T180000
DTSTAMP:20260423T032629
CREATED:20240415T013411Z
LAST-MODIFIED:20240415T013411Z
UID:539-1714060800-1714068000@townofholton.wi.gov
SUMMARY:Open Book
DESCRIPTION:
URL:https://townofholton.wi.gov/event/open-book/
CATEGORIES:Town Board
END:VEVENT
BEGIN:VEVENT
DTSTART;TZID=America/Chicago:20240425T160000
DTEND;TZID=America/Chicago:20240425T180000
DTSTAMP:20260423T032629
CREATED:20240415T020401Z
LAST-MODIFIED:20240415T020401Z
UID:546-1714060800-1714068000@townofholton.wi.gov
SUMMARY:Open Book
DESCRIPTION:STATE OF WISCONSIN\nTown of Holton\nMarathon County \nAssessment Roll is Open for Examination and Open Book \nPursuant to Wis. Stat. § 70.45\, the assessment roll for the Year 2024 Town of Holton\, Marathon County assessment will be open for examination starting on the 25th day of April\, 2024 at 4:00 p.m.\nAdditionally\, the assessor shall be available at the Town Hall from 4:00 p.m. until 6:00 p.m.\nInstructional material will be provided at the open book to persons who wish to object to valuations under Wis. Stat. § 70.47.
URL:https://townofholton.wi.gov/event/open-book-2/
END:VEVENT
END:VCALENDAR