BEGIN:VCALENDAR
VERSION:2.0
PRODID:-//Town of Holton - ECPv5.16.4//NONSGML v1.0//EN
CALSCALE:GREGORIAN
METHOD:PUBLISH
X-ORIGINAL-URL:https://townofholton.wi.gov
X-WR-CALDESC:Events for Town of Holton
REFRESH-INTERVAL;VALUE=DURATION:PT1H
X-Robots-Tag:noindex
X-PUBLISHED-TTL:PT1H
BEGIN:VTIMEZONE
TZID:America/Chicago
BEGIN:DAYLIGHT
TZOFFSETFROM:-0600
TZOFFSETTO:-0500
TZNAME:CDT
DTSTART:20240310T080000
END:DAYLIGHT
BEGIN:STANDARD
TZOFFSETFROM:-0500
TZOFFSETTO:-0600
TZNAME:CST
DTSTART:20241103T070000
END:STANDARD
END:VTIMEZONE
BEGIN:VEVENT
DTSTART;VALUE=DATE:20241224
DTEND;VALUE=DATE:20241225
DTSTAMP:20260420T043612
CREATED:20241211T001716Z
LAST-MODIFIED:20241211T001716Z
UID:727-1734998400-1735084799@townofholton.wi.gov
SUMMARY:Town Hall Reserved
DESCRIPTION:
URL:https://townofholton.wi.gov/event/town-hall-reserved-32/
CATEGORIES:Town Hall Reserved
END:VEVENT
END:VCALENDAR