BEGIN:VCALENDAR
VERSION:2.0
PRODID:-//Town of Holton - ECPv5.16.4//NONSGML v1.0//EN
CALSCALE:GREGORIAN
METHOD:PUBLISH
X-WR-CALNAME:Town of Holton
X-ORIGINAL-URL:https://townofholton.wi.gov
X-WR-CALDESC:Events for Town of Holton
REFRESH-INTERVAL;VALUE=DURATION:PT1H
X-Robots-Tag:noindex
X-PUBLISHED-TTL:PT1H
BEGIN:VTIMEZONE
TZID:America/Chicago
BEGIN:DAYLIGHT
TZOFFSETFROM:-0600
TZOFFSETTO:-0500
TZNAME:CDT
DTSTART:20230312T080000
END:DAYLIGHT
BEGIN:STANDARD
TZOFFSETFROM:-0500
TZOFFSETTO:-0600
TZNAME:CST
DTSTART:20231105T070000
END:STANDARD
END:VTIMEZONE
BEGIN:VEVENT
DTSTART;VALUE=DATE:20230603
DTEND;VALUE=DATE:20230604
DTSTAMP:20260423T011002
CREATED:20230327T193128Z
LAST-MODIFIED:20230327T193128Z
UID:147-1685750400-1685836799@townofholton.wi.gov
SUMMARY:Town Hall Reserved
DESCRIPTION:
URL:https://townofholton.wi.gov/event/town-hall-reserved-5/
CATEGORIES:Town Hall Reserved
END:VEVENT
BEGIN:VEVENT
DTSTART;VALUE=DATE:20230610
DTEND;VALUE=DATE:20230611
DTSTAMP:20260423T011002
CREATED:20230509T124750Z
LAST-MODIFIED:20230509T124750Z
UID:244-1686355200-1686441599@townofholton.wi.gov
SUMMARY:Town Hall Reserved
DESCRIPTION:
URL:https://townofholton.wi.gov/event/town-hall-reserved-8/
CATEGORIES:Town Hall Reserved
END:VEVENT
BEGIN:VEVENT
DTSTART;TZID=America/Chicago:20230615T190000
DTEND;TZID=America/Chicago:20230615T200000
DTSTAMP:20260423T011002
CREATED:20230614T190529Z
LAST-MODIFIED:20230614T190529Z
UID:324-1686855600-1686859200@townofholton.wi.gov
SUMMARY:Central Fire & EMS
DESCRIPTION:
URL:https://townofholton.wi.gov/event/central-fire-ems/
END:VEVENT
END:VCALENDAR