BEGIN:VCALENDAR
VERSION:2.0
PRODID:-//Town of Holton - ECPv5.16.4//NONSGML v1.0//EN
CALSCALE:GREGORIAN
METHOD:PUBLISH
X-ORIGINAL-URL:https://townofholton.wi.gov
X-WR-CALDESC:Events for Town of Holton
REFRESH-INTERVAL;VALUE=DURATION:PT1H
X-Robots-Tag:noindex
X-PUBLISHED-TTL:PT1H
BEGIN:VTIMEZONE
TZID:America/Chicago
BEGIN:DAYLIGHT
TZOFFSETFROM:-0600
TZOFFSETTO:-0500
TZNAME:CDT
DTSTART:20240310T080000
END:DAYLIGHT
BEGIN:STANDARD
TZOFFSETFROM:-0500
TZOFFSETTO:-0600
TZNAME:CST
DTSTART:20241103T070000
END:STANDARD
END:VTIMEZONE
BEGIN:VEVENT
DTSTART;TZID=America/Chicago:20241102T080000
DTEND;TZID=America/Chicago:20241102T120000
DTSTAMP:20260420T173108
CREATED:20240805T185749Z
LAST-MODIFIED:20240805T185749Z
UID:621-1730534400-1730548800@townofholton.wi.gov
SUMMARY:Recycling
DESCRIPTION:
URL:https://townofholton.wi.gov/event/recycling-2/2024-11-02/
CATEGORIES:Recycling
END:VEVENT
BEGIN:VEVENT
DTSTART;TZID=America/Chicago:20241105T070000
DTEND;TZID=America/Chicago:20241105T200000
DTSTAMP:20260420T173108
CREATED:20230418T034050Z
LAST-MODIFIED:20230418T034050Z
UID:214-1730790000-1730836800@townofholton.wi.gov
SUMMARY:General Election
DESCRIPTION:
URL:https://townofholton.wi.gov/event/general-election/
CATEGORIES:Election
END:VEVENT
BEGIN:VEVENT
DTSTART;TZID=America/Chicago:20241113T190000
DTEND;TZID=America/Chicago:20241113T192000
DTSTAMP:20260420T173108
CREATED:20241028T114116Z
LAST-MODIFIED:20241028T114116Z
UID:712-1731524400-1731525600@townofholton.wi.gov
SUMMARY:Budget Hearing & Electors Meeting
DESCRIPTION:The regular town board meeting will immediately follow the budget hearing and electors meeting.
URL:https://townofholton.wi.gov/event/budget-hearing-electors-meeting/
END:VEVENT
BEGIN:VEVENT
DTSTART;TZID=America/Chicago:20241113T190000
DTEND;TZID=America/Chicago:20241113T200000
DTSTAMP:20260420T173108
CREATED:20240218T230517Z
LAST-MODIFIED:20240218T230517Z
UID:486-1731524400-1731528000@townofholton.wi.gov
SUMMARY:Town Board Meeting
DESCRIPTION:
URL:https://townofholton.wi.gov/event/town-board-meeting-6/2024-11-13/
CATEGORIES:Town Board
END:VEVENT
BEGIN:VEVENT
DTSTART;TZID=America/Chicago:20241116T080000
DTEND;TZID=America/Chicago:20241116T120000
DTSTAMP:20260420T173108
CREATED:20240805T185836Z
LAST-MODIFIED:20240805T185836Z
UID:632-1731744000-1731758400@townofholton.wi.gov
SUMMARY:Recycling
DESCRIPTION:
URL:https://townofholton.wi.gov/event/recycling-3/2024-11-16/
CATEGORIES:Recycling
END:VEVENT
END:VCALENDAR